BEGIN:VCALENDAR
VERSION:2.0
PRODID:-//wp-events-plugin.com//7.2.3.1//EN
TZID:America/New_York
X-WR-TIMEZONE:America/New_York
BEGIN:VEVENT
UID:1267@uusouthold.org
DTSTART;TZID=America/New_York:20260304T150000
DTEND;TZID=America/New_York:20260305T170000
DTSTAMP:20260331T174858Z
URL:https://uusouthold.org/events/piano-master-class-2026-03-04/
SUMMARY:Music Class with Charlotte Day
DESCRIPTION:Charlotte Day is offering music classes\, including piano\, voi
 ce and chorus on Wednesdays at 3:00pm.  The classes will include working 
 on the hymns for each week's upcoming Sunday service.
LOCATION:Unitarian Universalists of Southold Meeting House\, 51900 Main Rd.
 \, Southold\, NY\, 11971\, Suffolk County\, United States
X-APPLE-STRUCTURED-LOCATION;VALUE=URI;X-ADDRESS=51900 Main Rd.\, Southold\,
  NY\, 11971\, Suffolk County\, United States;X-APPLE-RADIUS=100;X-TITLE=Un
 itarian Universalists of Southold Meeting House:geo:0,0
END:VEVENT
BEGIN:VTIMEZONE
TZID:America/New_York
X-LIC-LOCATION:America/New_York
BEGIN:STANDARD
DTSTART:20251102T010000
TZOFFSETFROM:-0400
TZOFFSETTO:-0500
TZNAME:EST
END:STANDARD
END:VTIMEZONE
END:VCALENDAR