BEGIN:VCALENDAR
VERSION:2.0
PRODID:-//wp-events-plugin.com//7.2.3.1//EN
TZID:America/New_York
X-WR-TIMEZONE:America/New_York
BEGIN:VEVENT
UID:1181@uusouthold.org
DTSTART;TZID=America/New_York:20251030T180000
DTEND;TZID=America/New_York:20251030T193000
DTSTAMP:20251030T125830Z
URL:https://uusouthold.org/events/nature-based-solutions-workshop-series-p
 art-2/
SUMMARY:Nature-based Solutions Workshop Series:  Part 2
DESCRIPTION:Mark Haubner\, President of North Fork Environmental Council\, 
 is offering a 6-week workshop series on Nature-based Solutions (NbS).  We
  hope you will join us for one or more of these informative\, action-orien
 ted programs.  Admission is Free.  The workshops may also be viewed live
  on YouTube\, or you may join via Zoom (contact Office@NFEC1.org for Zoom 
 link).\n\nThe second workshop is on Bioregioning.  Bioregioning is the et
 hos and action involved with living in a place and working with its natura
 l systems. By asserting our personal agency and responsibility\, we can be
 come stewards of the air\, water and soil\, and become the good ancestors 
 we need to be.\n\nBy uncovering the qualities and boundaries of your own b
 ioregion\, your understanding of your local geography and biophysical surr
 oundings will help you identify high impact points of various Nature-based
  Solutions and you will be able to assess where to best apply your time an
 d efforts.\n\nJoin climate science communicator\, Mark Haubner\, at the UU
 s of Southold meeting house at 6:00pm on Thursday\, October 30\, and get r
 eady to pursue your own efforts in your particular area of interest.\n\n
END:VEVENT
BEGIN:VTIMEZONE
TZID:America/New_York
X-LIC-LOCATION:America/New_York
BEGIN:DAYLIGHT
DTSTART:20250309T030000
TZOFFSETFROM:-0500
TZOFFSETTO:-0400
TZNAME:EDT
END:DAYLIGHT
END:VTIMEZONE
END:VCALENDAR