BEGIN:VCALENDAR
VERSION:2.0
PRODID:-//wp-events-plugin.com//7.2.3.1//EN
TZID:America/New_York
X-WR-TIMEZONE:America/New_York
BEGIN:VEVENT
UID:1287@uusouthold.org
DTSTART;TZID=America/New_York:20260501T150000
DTEND;TZID=America/New_York:20260501T190000
DTSTAMP:20260422T135431Z
URL:https://uusouthold.org/events/may-day-teach-in-and-celebration/
SUMMARY:May Day Teach-in and Celebration
DESCRIPTION:The North Fork Action Center\, that we host at 4PM on the 4th S
 unday of each month\, has organized an event for Friday\, May 1st\, from 3
  to 7PM.\n\n 	3-4 pm self-guided education and entertainment. Enjoy videos
  about protest music from different eras and short political documentaries
 \, plus an art exhibition.\n 	4-6 pm lecture series (with intermission)\
 n\n 	Money and the American Way: The Constitutional Right to Become an Oli
 garch by Albert W. Alschuler\, retired criminal law professor\n 	History 
 of Labor Rights by Michael Zweig\, Professor Emeritus of Stony Brook\, fou
 nding director of the Center for Study of Working-Class Life\n 	Transforma
 tions brought about by Americans organizing in the modern era by Abigail 
 Field\, local attorney and lifelong activist\n\n\n\n\n 	6-7 pm hotdog part
 y in the backyard.  Enjoy food (beef + vegan) and interesting conversatio
 n!\n\nTo learn more about the North Fork Action Center\, click here.
END:VEVENT
BEGIN:VTIMEZONE
TZID:America/New_York
X-LIC-LOCATION:America/New_York
BEGIN:DAYLIGHT
DTSTART:20260308T030000
TZOFFSETFROM:-0500
TZOFFSETTO:-0400
TZNAME:EDT
END:DAYLIGHT
END:VTIMEZONE
END:VCALENDAR