BEGIN:VCALENDAR
VERSION:2.0
PRODID:-//wp-events-plugin.com//7.2.3.1//EN
TZID:America/New_York
X-WR-TIMEZONE:America/New_York
BEGIN:VEVENT
UID:1247@uusouthold.org
DTSTART;TZID=America/New_York:20260505T160000
DTEND;TZID=America/New_York:20260505T170000
DTSTAMP:20251228T161052Z
URL:https://uusouthold.org/events/covenant-group-3-2026-01-06-2026-02-03-2
 026-03-03-2026-04-07-2026-05-05/
SUMMARY:Covenant Group
DESCRIPTION:Join Ginny Cornell\, in the conference room at the meeting hous
 e\, for a lively discussion and time of sharing.\n\nWhat is a Covenant Gr
 oup?
CATEGORIES:Covenant Group
LOCATION:Unitarian Universalists of Southold Meeting House\, 51900 Main Rd.
 \, Southold\, NY\, 11971\, Suffolk County\, United States
X-APPLE-STRUCTURED-LOCATION;VALUE=URI;X-ADDRESS=51900 Main Rd.\, Southold\,
  NY\, 11971\, Suffolk County\, United States;X-APPLE-RADIUS=100;X-TITLE=Un
 itarian Universalists of Southold Meeting House:geo:0,0
END:VEVENT
BEGIN:VTIMEZONE
TZID:America/New_York
X-LIC-LOCATION:America/New_York
BEGIN:DAYLIGHT
DTSTART:20260308T030000
TZOFFSETFROM:-0500
TZOFFSETTO:-0400
TZNAME:EDT
END:DAYLIGHT
END:VTIMEZONE
END:VCALENDAR