BEGIN:VCALENDAR
VERSION:2.0
PRODID:-//wp-events-plugin.com//7.2.3.1//EN
TZID:America/New_York
X-WR-TIMEZONE:America/New_York
BEGIN:VEVENT
UID:1288@uusouthold.org
DTSTART;TZID=America/New_York:20260502T160000
DTEND;TZID=America/New_York:20260502T180000
DTSTAMP:20260422T194428Z
URL:https://uusouthold.org/events/artists-reception-earth-water-solo-fine-
 art-photography-show/
SUMMARY:Artist's Reception - Earth Water Solo Fine Art Photography Show
DESCRIPTION:We are pleased to be hosting the solo fine art photography show
 \, Earth Water\, by Katherine Liepe-Levinson.  You can meet the artist at
  a reception from 4-6pm on Saturday\, May 2nd. Her beautiful works will be
  on display April 25 - May 27.  See below for show hours and contact info
 rmation.\n\n
CATEGORIES:Art &amp; Music
END:VEVENT
BEGIN:VTIMEZONE
TZID:America/New_York
X-LIC-LOCATION:America/New_York
BEGIN:DAYLIGHT
DTSTART:20260308T030000
TZOFFSETFROM:-0500
TZOFFSETTO:-0400
TZNAME:EDT
END:DAYLIGHT
END:VTIMEZONE
END:VCALENDAR