BEGIN:VCALENDAR
VERSION:2.0
PRODID:-//wp-events-plugin.com//7.2.3.1//EN
TZID:America/New_York
X-WR-TIMEZONE:America/New_York
BEGIN:VEVENT
UID:1236@uusouthold.org
DTSTART;TZID=America/New_York:20260425T160000
DTEND;TZID=America/New_York:20260425T170000
DTSTAMP:20251228T160647Z
URL:https://uusouthold.org/events/aa-2026-01-03-2026-01-10-2026-01-17-2026
 -01-24-2026-01-31-2026-02-07-2026-02-14-2026-02-21-2026-02-28-2026-03-07-2
 026-03-14-2026-03-21-2026-03-28-2026-04-04-2026-04-11-2026-04-18-2026-04-2
 5/
SUMMARY:AA
DESCRIPTION:
LOCATION:Unitarian Universalists of Southold Meeting House\, 51900 Main Rd.
 \, Southold\, NY\, 11971\, Suffolk County\, United States
X-APPLE-STRUCTURED-LOCATION;VALUE=URI;X-ADDRESS=51900 Main Rd.\, Southold\,
  NY\, 11971\, Suffolk County\, United States;X-APPLE-RADIUS=100;X-TITLE=Un
 itarian Universalists of Southold Meeting House:geo:0,0
END:VEVENT
BEGIN:VTIMEZONE
TZID:America/New_York
X-LIC-LOCATION:America/New_York
BEGIN:DAYLIGHT
DTSTART:20260308T030000
TZOFFSETFROM:-0500
TZOFFSETTO:-0400
TZNAME:EDT
END:DAYLIGHT
END:VTIMEZONE
END:VCALENDAR